BEGIN:VCALENDAR
VERSION:2.0
PRODID:-//FeNaBA - ECPv4.9.10//NONSGML v1.0//EN
CALSCALE:GREGORIAN
METHOD:PUBLISH
X-WR-CALNAME:FeNaBA
X-ORIGINAL-URL:http://fenaba.org.ar/wp
X-WR-CALDESC:Eventos para FeNaBA
BEGIN:VTIMEZONE
TZID:UTC
BEGIN:STANDARD
TZOFFSETFROM:+0000
TZOFFSETTO:+0000
TZNAME:UTC
DTSTART:20170101T000000
END:STANDARD
END:VTIMEZONE
BEGIN:VEVENT
DTSTART;TZID=UTC:20170206T080000
DTEND;TZID=UTC:20170206T170000
DTSTAMP:20260425T184409
CREATED:20170206T223222Z
LAST-MODIFIED:20170206T223229Z
UID:1461-1486368000-1486400400@fenaba.org.ar
SUMMARY:Blaum se adjudicó la maratón Santa Fe-Coronda
DESCRIPTION:Con esta victoria\, Argentina logró quedarse con la competencia después de 14 años. El segundo lugar fue para el italiano Edoardo Stochino\, y tercero terminó el macedonio Evgenij Pop Ace \n 
URL:http://fenaba.org.ar/wp/?tribe_events=blaum-se-adjudico-la-maraton-santa-fe-coronda
END:VEVENT
END:VCALENDAR