BEGIN:VCALENDAR
VERSION:2.0
PRODID:-//FeNaBA - ECPv4.9.10//NONSGML v1.0//EN
CALSCALE:GREGORIAN
METHOD:PUBLISH
X-WR-CALNAME:FeNaBA
X-ORIGINAL-URL:http://fenaba.org.ar/wp
X-WR-CALDESC:Eventos para FeNaBA
BEGIN:VTIMEZONE
TZID:UTC
BEGIN:STANDARD
TZOFFSETFROM:+0000
TZOFFSETTO:+0000
TZNAME:UTC
DTSTART:20170101T000000
END:STANDARD
END:VTIMEZONE
BEGIN:VEVENT
DTSTART;TZID=UTC:20170614T080000
DTEND;TZID=UTC:20170617T170000
DTSTAMP:20260425T230458
CREATED:20170322T192352Z
LAST-MODIFIED:20170322T192352Z
UID:1612-1497427200-1497718800@fenaba.org.ar
SUMMARY:Campeoanto Nacional de Cadetes - sede Mar del Plata - organiza FENBAS
DESCRIPTION: 
URL:http://fenaba.org.ar/wp/?tribe_events=campeoanto-nacional-de-cadetes-sede-mar-del-plata-organiza-fenbas
LOCATION:EMDER\, AV. JUAN B.JUSTO 3750\, Mar del Plata\, Buenos Aires\, Argentina
END:VEVENT
END:VCALENDAR