BEGIN:VCALENDAR
VERSION:2.0
PRODID:-//FeNaBA - ECPv4.9.10//NONSGML v1.0//EN
CALSCALE:GREGORIAN
METHOD:PUBLISH
X-WR-CALNAME:FeNaBA
X-ORIGINAL-URL:http://fenaba.org.ar/wp
X-WR-CALDESC:Eventos para FeNaBA
BEGIN:VTIMEZONE
TZID:UTC
BEGIN:STANDARD
TZOFFSETFROM:+0000
TZOFFSETTO:+0000
TZNAME:UTC
DTSTART:20180101T000000
END:STANDARD
END:VTIMEZONE
BEGIN:VEVENT
DTSTART;TZID=UTC:20180111T000000
DTEND;TZID=UTC:20180114T000000
DTSTAMP:20260426T011249
CREATED:20170911T192543Z
LAST-MODIFIED:20171227T151835Z
UID:1781-1515628800-1515888000@fenaba.org.ar
SUMMARY:CAMPEOANTO REPUBLICA CADETES (Sede CEF N° 1 - Neuquen)
DESCRIPTION:Invitacion_Nacional_de_Cadetes \nREGLAMENTO_CAMPEONATO_REPUBLICA_DE_CADETES-2018_VERANO_- \n 
URL:http://fenaba.org.ar/wp/?tribe_events=campeoanto-republica-cadetes
END:VEVENT
END:VCALENDAR