BEGIN:VCALENDAR
VERSION:2.0
PRODID:-//FeNaBA - ECPv4.9.10//NONSGML v1.0//EN
CALSCALE:GREGORIAN
METHOD:PUBLISH
X-WR-CALNAME:FeNaBA
X-ORIGINAL-URL:http://fenaba.org.ar/wp
X-WR-CALDESC:Eventos para FeNaBA
BEGIN:VTIMEZONE
TZID:UTC
BEGIN:STANDARD
TZOFFSETFROM:+0000
TZOFFSETTO:+0000
TZNAME:UTC
DTSTART:20140101T000000
END:STANDARD
END:VTIMEZONE
BEGIN:VEVENT
DTSTART;TZID=UTC:20141212T000000
DTEND;TZID=UTC:20141215T000000
DTSTAMP:20260424T213630
CREATED:20141125T204031Z
LAST-MODIFIED:20141125T204031Z
UID:810-1418342400-1418601600@fenaba.org.ar
SUMMARY:Campeonato Argentino de Natación - Juniors y Mayores
DESCRIPTION:CAMPEONATO ARGENTINO OPEN 2014 Reglamento \nConvocatoria FCN \n 
URL:http://fenaba.org.ar/wp/?tribe_events=campeonato-argentino-de-natacion-juniors-y-mayores
END:VEVENT
END:VCALENDAR