BEGIN:VCALENDAR
VERSION:2.0
PRODID:-//FeNaBA - ECPv4.9.10//NONSGML v1.0//EN
CALSCALE:GREGORIAN
METHOD:PUBLISH
X-WR-CALNAME:FeNaBA
X-ORIGINAL-URL:http://fenaba.org.ar/wp
X-WR-CALDESC:Eventos para FeNaBA
BEGIN:VTIMEZONE
TZID:UTC
BEGIN:STANDARD
TZOFFSETFROM:+0000
TZOFFSETTO:+0000
TZNAME:UTC
DTSTART:20170101T000000
END:STANDARD
END:VTIMEZONE
BEGIN:VEVENT
DTSTART;TZID=UTC:20171213T000000
DTEND;TZID=UTC:20171216T000000
DTSTAMP:20260425T225722
CREATED:20170911T192251Z
LAST-MODIFIED:20171107T144451Z
UID:1777-1513123200-1513382400@fenaba.org.ar
SUMMARY:CAMPEONATO ARGENTINO DE NATACIÓN MAYORES
DESCRIPTION:CONVOCATORIA CAMPEONATO ARGENTINO OPEN 2017 \nREGLAMENTO CAMPEONATO ARGENTINO OPEN DIC 2017 (1) \n  \n 
URL:http://fenaba.org.ar/wp/?tribe_events=campeonato-argentino-de-natacion-mayores
END:VEVENT
END:VCALENDAR