BEGIN:VCALENDAR
VERSION:2.0
PRODID:-//FeNaBA - ECPv4.9.10//NONSGML v1.0//EN
CALSCALE:GREGORIAN
METHOD:PUBLISH
X-WR-CALNAME:FeNaBA
X-ORIGINAL-URL:http://fenaba.org.ar/wp
X-WR-CALDESC:Eventos para FeNaBA
BEGIN:VTIMEZONE
TZID:UTC
BEGIN:STANDARD
TZOFFSETFROM:+0000
TZOFFSETTO:+0000
TZNAME:UTC
DTSTART:20160101T000000
END:STANDARD
END:VTIMEZONE
BEGIN:VEVENT
DTSTART;TZID=UTC:20160414T000000
DTEND;TZID=UTC:20160417T000000
DTSTAMP:20260425T120317
CREATED:20160330T214807Z
LAST-MODIFIED:20160330T214807Z
UID:1238-1460592000-1460851200@fenaba.org.ar
SUMMARY:Campeonato Argentino Masters 2016
DESCRIPTION:Reglamento y Programa de Pruebas \n 
URL:http://fenaba.org.ar/wp/?tribe_events=campeonato-argentino-masters-2016
LOCATION:Ce.N.A.R.D.\, Miguel B. de Sanchez 1050\, caba\, buenos aires\, Argentina
END:VEVENT
END:VCALENDAR