BEGIN:VCALENDAR
VERSION:2.0
PRODID:-//FeNaBA - ECPv4.9.10//NONSGML v1.0//EN
CALSCALE:GREGORIAN
METHOD:PUBLISH
X-WR-CALNAME:FeNaBA
X-ORIGINAL-URL:http://fenaba.org.ar/wp
X-WR-CALDESC:Eventos para FeNaBA
BEGIN:VTIMEZONE
TZID:UTC
BEGIN:STANDARD
TZOFFSETFROM:+0000
TZOFFSETTO:+0000
TZNAME:UTC
DTSTART:20140101T000000
END:STANDARD
END:VTIMEZONE
BEGIN:VEVENT
DTSTART;TZID=UTC:20141022T000000
DTEND;TZID=UTC:20141026T000000
DTSTAMP:20260425T004404
CREATED:20140827T214914Z
LAST-MODIFIED:20140827T215151Z
UID:683-1413936000-1414281600@fenaba.org.ar
SUMMARY:Campeonato Argentino Masters y Pre Masters Octubre 2014
DESCRIPTION:INFORMACIÓN CAMP. ARGENTINO MASTER Y PREMASTER OCTUBRE 2014 \nEl Campeonato Argentino de Masters y Pre Masters se desarrollara conjuntamente con el Campeonato Sudamericano de la categoría. \n 
URL:http://fenaba.org.ar/wp/?tribe_events=campeonato-argentino-masters-y-pre-masters-octubre-2014
LOCATION:EMDER\, AV. JUAN B.JUSTO 3750\, Mar del Plata\, Buenos Aires\, Argentina
END:VEVENT
END:VCALENDAR