BEGIN:VCALENDAR
VERSION:2.0
PRODID:-//FeNaBA - ECPv4.9.10//NONSGML v1.0//EN
CALSCALE:GREGORIAN
METHOD:PUBLISH
X-WR-CALNAME:FeNaBA
X-ORIGINAL-URL:http://fenaba.org.ar/wp
X-WR-CALDESC:Eventos para FeNaBA
BEGIN:VTIMEZONE
TZID:UTC
BEGIN:STANDARD
TZOFFSETFROM:+0000
TZOFFSETTO:+0000
TZNAME:UTC
DTSTART:20140101T000000
END:STANDARD
END:VTIMEZONE
BEGIN:VEVENT
DTSTART;TZID=UTC:20141205T000000
DTEND;TZID=UTC:20141206T000000
DTSTAMP:20260424T231555
CREATED:20140923T182403Z
LAST-MODIFIED:20140923T193352Z
UID:718-1417737600-1417824000@fenaba.org.ar
SUMMARY:Campeonato Metopolitano Verano 2015 - Etapa INFANTILES - MENORES
DESCRIPTION:REGLAMENTO  \nPrograma de Pruebas INFANTILES y MENORES \nPlanilla de Integracion de Delegación \nPlanilla de Inscripción a Torneos \n 
URL:http://fenaba.org.ar/wp/?tribe_events=campeonato-metopolitano-verano-2015-etapa-infantiles-menores
LOCATION:cenard\, Av. Crisologo Larralde 1050\, C.A.B.A.\, C.A.B.A.\, Argentina
END:VEVENT
END:VCALENDAR