BEGIN:VCALENDAR
VERSION:2.0
PRODID:-//FeNaBA - ECPv4.9.10//NONSGML v1.0//EN
CALSCALE:GREGORIAN
METHOD:PUBLISH
X-WR-CALNAME:FeNaBA
X-ORIGINAL-URL:http://fenaba.org.ar/wp
X-WR-CALDESC:Eventos para FeNaBA
BEGIN:VTIMEZONE
TZID:UTC
BEGIN:STANDARD
TZOFFSETFROM:+0000
TZOFFSETTO:+0000
TZNAME:UTC
DTSTART:20140101T000000
END:STANDARD
END:VTIMEZONE
BEGIN:VEVENT
DTSTART;VALUE=DATE:20141101
DTEND;VALUE=DATE:20141102
DTSTAMP:20260425T004222
CREATED:20140923T181649Z
LAST-MODIFIED:20140925T142324Z
UID:716-1414800000-1414886399@fenaba.org.ar
SUMMARY:Campeonato Metopolitano Verano 2015 - Etapa SPRINT
DESCRIPTION:REGLAMENTO \nPrograma de Pruebas SPRINT \nPlanilla de Integracion de Delegación \nPlanilla de Inscripción a Torneos \n  \n 
URL:http://fenaba.org.ar/wp/?tribe_events=campeonato-metopolitano-verano-2015-etapa-sprint
LOCATION:cenard\, Av. Crisologo Larralde 1050\, C.A.B.A.\, C.A.B.A.\, Argentina
END:VEVENT
END:VCALENDAR