BEGIN:VCALENDAR
VERSION:2.0
PRODID:-//FeNaBA - ECPv4.9.10//NONSGML v1.0//EN
CALSCALE:GREGORIAN
METHOD:PUBLISH
X-WR-CALNAME:FeNaBA
X-ORIGINAL-URL:http://fenaba.org.ar/wp
X-WR-CALDESC:Eventos para FeNaBA
BEGIN:VTIMEZONE
TZID:UTC
BEGIN:STANDARD
TZOFFSETFROM:+0000
TZOFFSETTO:+0000
TZNAME:UTC
DTSTART:20150101T000000
END:STANDARD
END:VTIMEZONE
BEGIN:VEVENT
DTSTART;TZID=UTC:20150523T140000
DTEND;TZID=UTC:20150523T140000
DTSTAMP:20260425T040333
CREATED:20150429T211647Z
LAST-MODIFIED:20150429T211647Z
UID:973-1432389600-1432389600@fenaba.org.ar
SUMMARY:Campeonato Metropolitano de Natación MASTER - 2° jornada
DESCRIPTION:Reglamento \nPrograma de Pruebas SEGUNDA JORNADA \n 
URL:http://fenaba.org.ar/wp/?tribe_events=campeonato-metropolitano-de-natacion-master-2-jornada
LOCATION:Club Atl. Independiente\, Av. Mitre 470\, Avellaneda\, Buenos Aires\, Argentina
END:VEVENT
END:VCALENDAR