BEGIN:VCALENDAR
VERSION:2.0
PRODID:-//FeNaBA - ECPv4.9.10//NONSGML v1.0//EN
CALSCALE:GREGORIAN
METHOD:PUBLISH
X-WR-CALNAME:FeNaBA
X-ORIGINAL-URL:http://fenaba.org.ar/wp
X-WR-CALDESC:Eventos para FeNaBA
BEGIN:VTIMEZONE
TZID:UTC
BEGIN:STANDARD
TZOFFSETFROM:+0000
TZOFFSETTO:+0000
TZNAME:UTC
DTSTART:20170101T000000
END:STANDARD
END:VTIMEZONE
BEGIN:VEVENT
DTSTART;TZID=UTC:20170930T140000
DTEND;TZID=UTC:20170930T140000
DTSTAMP:20260425T220814
CREATED:20170307T180810Z
LAST-MODIFIED:20170307T181340Z
UID:1512-1506780000-1506780000@fenaba.org.ar
SUMMARY:Campeonato Metropolitano de Natación Master - 7° Jornada
DESCRIPTION:Reglamento \nSeptima Jornada \n  \n 
URL:http://fenaba.org.ar/wp/?tribe_events=campeonato-metropolitano-de-natacion-master-7-jornada
LOCATION:Ce.N.A.R.D.\, Miguel B. de Sanchez 1050\, caba\, buenos aires\, Argentina
END:VEVENT
END:VCALENDAR