BEGIN:VCALENDAR
VERSION:2.0
PRODID:-//FeNaBA - ECPv4.9.10//NONSGML v1.0//EN
CALSCALE:GREGORIAN
METHOD:PUBLISH
X-WR-CALNAME:FeNaBA
X-ORIGINAL-URL:http://fenaba.org.ar/wp
X-WR-CALDESC:Eventos para FeNaBA
BEGIN:VTIMEZONE
TZID:UTC
BEGIN:STANDARD
TZOFFSETFROM:+0000
TZOFFSETTO:+0000
TZNAME:UTC
DTSTART:20160101T000000
END:STANDARD
END:VTIMEZONE
BEGIN:VEVENT
DTSTART;TZID=UTC:20161111T000000
DTEND;TZID=UTC:20161112T000000
DTSTAMP:20260425T124308
CREATED:20160901T202322Z
LAST-MODIFIED:20161020T193317Z
UID:1335-1478822400-1478908800@fenaba.org.ar
SUMMARY:Campeonato Metropolitano de Natación Verano 2017 - MAYORES
DESCRIPTION:Programa de Pruebas JUNIORS y MAYORES \nReglamento \n 
URL:http://fenaba.org.ar/wp/?tribe_events=campeonato-metropolitano-de-natacion-verano-2017-mayores
LOCATION:Ce.N.A.R.D.\, Miguel B. de Sanchez 1050\, caba\, buenos aires\, Argentina
END:VEVENT
END:VCALENDAR