BEGIN:VCALENDAR
VERSION:2.0
PRODID:-//FeNaBA - ECPv4.9.10//NONSGML v1.0//EN
CALSCALE:GREGORIAN
METHOD:PUBLISH
X-WR-CALNAME:FeNaBA
X-ORIGINAL-URL:http://fenaba.org.ar/wp
X-WR-CALDESC:Eventos para FeNaBA
BEGIN:VTIMEZONE
TZID:UTC
BEGIN:STANDARD
TZOFFSETFROM:+0000
TZOFFSETTO:+0000
TZNAME:UTC
DTSTART:20160101T000000
END:STANDARD
END:VTIMEZONE
BEGIN:VEVENT
DTSTART;TZID=UTC:20161008T000000
DTEND;TZID=UTC:20161008T000000
DTSTAMP:20260425T115708
CREATED:20160901T201234Z
LAST-MODIFIED:20161020T193152Z
UID:1330-1475884800-1475884800@fenaba.org.ar
SUMMARY:Campeonato Metropolitano de Natación Verano 2017 - SPRINT
DESCRIPTION:Programa de Pruebas SPRINT \nReglamento \n 
URL:http://fenaba.org.ar/wp/?tribe_events=campeonato-metropolitano-de-natacion-verano-2017-sprint
LOCATION:Ce.N.A.R.D.\, Miguel B. de Sanchez 1050\, caba\, buenos aires\, Argentina
END:VEVENT
END:VCALENDAR