BEGIN:VCALENDAR
VERSION:2.0
PRODID:-//FeNaBA - ECPv4.9.10//NONSGML v1.0//EN
CALSCALE:GREGORIAN
METHOD:PUBLISH
X-WR-CALNAME:FeNaBA
X-ORIGINAL-URL:http://fenaba.org.ar/wp
X-WR-CALDESC:Eventos para FeNaBA
BEGIN:VTIMEZONE
TZID:UTC
BEGIN:STANDARD
TZOFFSETFROM:+0000
TZOFFSETTO:+0000
TZNAME:UTC
DTSTART:20160101T000000
END:STANDARD
END:VTIMEZONE
BEGIN:VEVENT
DTSTART;TZID=UTC:20160617T000000
DTEND;TZID=UTC:20160618T000000
DTSTAMP:20260425T115603
CREATED:20160301T181000Z
LAST-MODIFIED:20160610T151857Z
UID:1192-1466121600-1466208000@fenaba.org.ar
SUMMARY:Campeonato Metropolitano Federados 2016 - ETAPA INFANTILES y MENORES
DESCRIPTION:Reglamento Metropolitano Federados \nPrograma de Pruebas Infantiles y Menores \n 
URL:http://fenaba.org.ar/wp/?tribe_events=campeonato-metropolitano-federados-2016-etapa-infantiles-y-menores
LOCATION:Ce.N.A.R.D.\, Miguel B. de Sanchez 1050\, caba\, buenos aires\, Argentina
END:VEVENT
END:VCALENDAR