BEGIN:VCALENDAR
VERSION:2.0
PRODID:-//FeNaBA - ECPv4.9.10//NONSGML v1.0//EN
CALSCALE:GREGORIAN
METHOD:PUBLISH
X-WR-CALNAME:FeNaBA
X-ORIGINAL-URL:http://fenaba.org.ar/wp
X-WR-CALDESC:Eventos para FeNaBA
BEGIN:VTIMEZONE
TZID:UTC
BEGIN:STANDARD
TZOFFSETFROM:+0000
TZOFFSETTO:+0000
TZNAME:UTC
DTSTART:20170101T000000
END:STANDARD
END:VTIMEZONE
BEGIN:VEVENT
DTSTART;TZID=UTC:20170408T080000
DTEND;TZID=UTC:20170408T080000
DTSTAMP:20260425T210129
CREATED:20170310T195530Z
LAST-MODIFIED:20170310T195530Z
UID:1589-1491638400-1491638400@fenaba.org.ar
SUMMARY:Campeonato Metropolitano Inv 2017 - ETAPA SPRINT
DESCRIPTION:Reglamento Metro Ver 2017 \nPrograma de Pruebas ETAPA SPRINT \n  \n 
URL:http://fenaba.org.ar/wp/?tribe_events=campeonato-metropolitano-inv-2017-etapa-sprint
LOCATION:Ce.N.A.R.D.\, Miguel B. de Sanchez 1050\, caba\, buenos aires\, Argentina
END:VEVENT
END:VCALENDAR