BEGIN:VCALENDAR
VERSION:2.0
PRODID:-//FeNaBA - ECPv4.9.10//NONSGML v1.0//EN
CALSCALE:GREGORIAN
METHOD:PUBLISH
X-WR-CALNAME:FeNaBA
X-ORIGINAL-URL:http://fenaba.org.ar/wp
X-WR-CALDESC:Eventos para FeNaBA
BEGIN:VTIMEZONE
TZID:UTC
BEGIN:STANDARD
TZOFFSETFROM:+0000
TZOFFSETTO:+0000
TZNAME:UTC
DTSTART:20140101T000000
END:STANDARD
END:VTIMEZONE
BEGIN:VEVENT
DTSTART;TZID=UTC:20141004T083000
DTEND;TZID=UTC:20141004T150000
DTSTAMP:20260425T021835
CREATED:20140912T215916Z
LAST-MODIFIED:20140930T170828Z
UID:701-1412411400-1412434800@fenaba.org.ar
SUMMARY:Campeonato Metropolitano Master 4° Jornada – Edición 2014
DESCRIPTION:Reglamento \nPrograma de Pruebas 4° JORNADA \n  \n  \n 
URL:http://fenaba.org.ar/wp/?tribe_events=campeonato-metropolitano-master-4-jornada-edicion-2014
LOCATION:C.A.S.L.A.\, Av. F. Fernandez de la Cruz 2403\, C.A.B.A.\, Buenos Aires\, Argentina
END:VEVENT
END:VCALENDAR