BEGIN:VCALENDAR
VERSION:2.0
PRODID:-//FeNaBA - ECPv4.9.10//NONSGML v1.0//EN
CALSCALE:GREGORIAN
METHOD:PUBLISH
X-WR-CALNAME:FeNaBA
X-ORIGINAL-URL:http://fenaba.org.ar/wp
X-WR-CALDESC:Eventos para FeNaBA
BEGIN:VTIMEZONE
TZID:UTC
BEGIN:STANDARD
TZOFFSETFROM:+0000
TZOFFSETTO:+0000
TZNAME:UTC
DTSTART:20160101T000000
END:STANDARD
END:VTIMEZONE
BEGIN:VEVENT
DTSTART;TZID=UTC:20160827T140000
DTEND;TZID=UTC:20160827T150000
DTSTAMP:20260425T112844
CREATED:20160301T181530Z
LAST-MODIFIED:20160317T184338Z
UID:1196-1472306400-1472310000@fenaba.org.ar
SUMMARY:Campeonato Metropolitano Masters 2016 - 2º jornada
DESCRIPTION:Reglamento Metropolitano Masters \nPBAS-2ª-JORNADA-MASTER \n 
URL:http://fenaba.org.ar/wp/?tribe_events=campeonato-metropolitano-masters-2016-1o-jornada-2
LOCATION:Ce.N.A.R.D.\, Miguel B. de Sanchez 1050\, caba\, buenos aires\, Argentina
END:VEVENT
END:VCALENDAR