BEGIN:VCALENDAR
VERSION:2.0
PRODID:-//FeNaBA - ECPv4.9.10//NONSGML v1.0//EN
CALSCALE:GREGORIAN
METHOD:PUBLISH
X-WR-CALNAME:FeNaBA
X-ORIGINAL-URL:http://fenaba.org.ar/wp
X-WR-CALDESC:Eventos para FeNaBA
BEGIN:VTIMEZONE
TZID:UTC
BEGIN:STANDARD
TZOFFSETFROM:+0000
TZOFFSETTO:+0000
TZNAME:UTC
DTSTART:20150101T000000
END:STANDARD
END:VTIMEZONE
BEGIN:VEVENT
DTSTART;TZID=UTC:20150411T080000
DTEND;TZID=UTC:20150411T130000
DTSTAMP:20260425T004232
CREATED:20150223T171705Z
LAST-MODIFIED:20150223T171705Z
UID:901-1428739200-1428757200@fenaba.org.ar
SUMMARY:Campeonato Metropolitano Promocional 2015 - 1° jornada
DESCRIPTION:REGLAMENTO Y PROGRAMA DE PRUEBAS 1° JORNADA \n 
URL:http://fenaba.org.ar/wp/?tribe_events=campeonato-metropolitano-promocional-2015-1-jornada
LOCATION:Ce.N.A.R.D.\, Miguel B. de Sanchez 1050\, caba\, buenos aires\, Argentina
END:VEVENT
END:VCALENDAR