BEGIN:VCALENDAR
VERSION:2.0
PRODID:-//FeNaBA - ECPv4.9.10//NONSGML v1.0//EN
CALSCALE:GREGORIAN
METHOD:PUBLISH
X-WR-CALNAME:FeNaBA
X-ORIGINAL-URL:http://fenaba.org.ar/wp
X-WR-CALDESC:Eventos para FeNaBA
BEGIN:VTIMEZONE
TZID:UTC
BEGIN:STANDARD
TZOFFSETFROM:+0000
TZOFFSETTO:+0000
TZNAME:UTC
DTSTART:20150101T000000
END:STANDARD
END:VTIMEZONE
BEGIN:VEVENT
DTSTART;TZID=UTC:20150613T140000
DTEND;TZID=UTC:20150613T140000
DTSTAMP:20260425T034405
CREATED:20150429T210425Z
LAST-MODIFIED:20150429T210425Z
UID:967-1434204000-1434204000@fenaba.org.ar
SUMMARY:Campeonato Metropolitano Promocional 2015 - 3° jornada
DESCRIPTION:REGLAMENTO METRO PROMOCIONALES 2015 \nPrograma de pruebas 3° JORNADA \n 
URL:http://fenaba.org.ar/wp/?tribe_events=campeonato-metropolitano-promocional-2015-3-jornada
LOCATION:SUTERH\, VENEZUELA 330\, CABA\, BUENOS AIRES\, Argentina
END:VEVENT
END:VCALENDAR