BEGIN:VCALENDAR
VERSION:2.0
PRODID:-//FeNaBA - ECPv4.9.10//NONSGML v1.0//EN
CALSCALE:GREGORIAN
METHOD:PUBLISH
X-WR-CALNAME:FeNaBA
X-ORIGINAL-URL:http://fenaba.org.ar/wp
X-WR-CALDESC:Eventos para FeNaBA
BEGIN:VTIMEZONE
TZID:UTC
BEGIN:STANDARD
TZOFFSETFROM:+0000
TZOFFSETTO:+0000
TZNAME:UTC
DTSTART:20170101T000000
END:STANDARD
END:VTIMEZONE
BEGIN:VEVENT
DTSTART;TZID=UTC:20170826T080000
DTEND;TZID=UTC:20170826T080000
DTSTAMP:20260426T001551
CREATED:20170310T183224Z
LAST-MODIFIED:20170310T184939Z
UID:1533-1503734400-1503734400@fenaba.org.ar
SUMMARY:Campeonato Metropolitano PROMOCIONAL - 5° jornada
DESCRIPTION:REGLAMENTO METRO PROMO 2017 \nQuinta Jornada Promo \n  \n 
URL:http://fenaba.org.ar/wp/?tribe_events=campeonato-metropolitano-promocional-5-jornada-2
LOCATION:Ce.N.A.R.D.\, Miguel B. de Sanchez 1050\, caba\, buenos aires\, Argentina
END:VEVENT
END:VCALENDAR