BEGIN:VCALENDAR
VERSION:2.0
PRODID:-//FeNaBA - ECPv4.9.10//NONSGML v1.0//EN
CALSCALE:GREGORIAN
METHOD:PUBLISH
X-WR-CALNAME:FeNaBA
X-ORIGINAL-URL:http://fenaba.org.ar/wp
X-WR-CALDESC:Eventos para FeNaBA
BEGIN:VTIMEZONE
TZID:UTC
BEGIN:STANDARD
TZOFFSETFROM:+0000
TZOFFSETTO:+0000
TZNAME:UTC
DTSTART:20140101T000000
END:STANDARD
END:VTIMEZONE
BEGIN:VEVENT
DTSTART;TZID=UTC:20141122T140000
DTEND;TZID=UTC:20141122T190000
DTSTAMP:20260425T022422
CREATED:20140923T180946Z
LAST-MODIFIED:20141113T195538Z
UID:707-1416664800-1416682800@fenaba.org.ar
SUMMARY:Campeonato Metropolitano Promocional 6° Jornada
DESCRIPTION:REGLAMENTO METRO PROMOCIONALES y PROGRAMA DE PRUEBAS 2014 \nPlanilla de Integracion de Delegación \nPlanilla de Inscripción a Torneos \n 
URL:http://fenaba.org.ar/wp/?tribe_events=campeonato-metropolitano-promocional-6-jornada
LOCATION:cenard\, Av. Crisologo Larralde 1050\, C.A.B.A.\, C.A.B.A.\, Argentina
END:VEVENT
END:VCALENDAR