BEGIN:VCALENDAR
VERSION:2.0
PRODID:-//FeNaBA - ECPv4.9.10//NONSGML v1.0//EN
CALSCALE:GREGORIAN
METHOD:PUBLISH
X-WR-CALNAME:FeNaBA
X-ORIGINAL-URL:http://fenaba.org.ar/wp
X-WR-CALDESC:Eventos para FeNaBA
BEGIN:VTIMEZONE
TZID:UTC
BEGIN:STANDARD
TZOFFSETFROM:+0000
TZOFFSETTO:+0000
TZNAME:UTC
DTSTART:20160101T000000
END:STANDARD
END:VTIMEZONE
BEGIN:VEVENT
DTSTART;TZID=UTC:20160910T080000
DTEND;TZID=UTC:20160910T090000
DTSTAMP:20260425T102846
CREATED:20160301T182924Z
LAST-MODIFIED:20160314T192719Z
UID:1213-1473494400-1473498000@fenaba.org.ar
SUMMARY:Campeonato Metropolitano Promocionales 2016 - 5º jornada
DESCRIPTION:REGLAMENTO METRO PROMOCIONALES 2016 \nPrograma de Pruebas 5° JORNADA \n 
URL:http://fenaba.org.ar/wp/?tribe_events=campeonato-metropolitano-promocionales-2016-5o-jornada
LOCATION:Ce.N.A.R.D.\, Miguel B. de Sanchez 1050\, caba\, buenos aires\, Argentina
END:VEVENT
END:VCALENDAR