BEGIN:VCALENDAR
VERSION:2.0
PRODID:-//FeNaBA - ECPv4.9.10//NONSGML v1.0//EN
CALSCALE:GREGORIAN
METHOD:PUBLISH
X-WR-CALNAME:FeNaBA
X-ORIGINAL-URL:http://fenaba.org.ar/wp
X-WR-CALDESC:Eventos para FeNaBA
BEGIN:VTIMEZONE
TZID:UTC
BEGIN:STANDARD
TZOFFSETFROM:+0000
TZOFFSETTO:+0000
TZNAME:UTC
DTSTART:20170101T000000
END:STANDARD
END:VTIMEZONE
BEGIN:VEVENT
DTSTART;TZID=UTC:20171124T163000
DTEND;TZID=UTC:20171125T080000
DTSTAMP:20260425T231326
CREATED:20170815T174157Z
LAST-MODIFIED:20171121T162505Z
UID:1745-1511541000-1511596800@fenaba.org.ar
SUMMARY:Campeonato Metropolitano Verano 2018 - ETAPA CAD - JUV - JR - MAYORES
DESCRIPTION:Programa de Pruebas Cad-Juv-Jn-Mayores \nReg Metro Ver 2018 \n 
URL:http://fenaba.org.ar/wp/?tribe_events=campeonato-metropolitano-verano-2018-etapa-cad-juv
LOCATION:C.A.R.D.
END:VEVENT
END:VCALENDAR