BEGIN:VCALENDAR
VERSION:2.0
PRODID:-//FeNaBA - ECPv4.9.10//NONSGML v1.0//EN
CALSCALE:GREGORIAN
METHOD:PUBLISH
X-WR-CALNAME:FeNaBA
X-ORIGINAL-URL:http://fenaba.org.ar/wp
X-WR-CALDESC:Eventos para FeNaBA
BEGIN:VTIMEZONE
TZID:UTC
BEGIN:STANDARD
TZOFFSETFROM:+0000
TZOFFSETTO:+0000
TZNAME:UTC
DTSTART:20170101T000000
END:STANDARD
END:VTIMEZONE
BEGIN:VEVENT
DTSTART;TZID=UTC:20171222T080000
DTEND;TZID=UTC:20171222T150000
DTSTAMP:20260426T002120
CREATED:20170815T174841Z
LAST-MODIFIED:20171204T233054Z
UID:1747-1513929600-1513954800@fenaba.org.ar
SUMMARY:Campeonato Metropolitano Verano 2018 - ETAPA INF - MEN
DESCRIPTION:Programa de Pruebas Inf-Men – Ver 2018 \nReg Metro Ver 2018 \n 
URL:http://fenaba.org.ar/wp/?tribe_events=campeonato-metropolitano-verano-2018-etapa-inf-men
LOCATION:Ce.N.A.R.D.\, Miguel B. de Sanchez 1050\, caba\, buenos aires\, Argentina
END:VEVENT
END:VCALENDAR