BEGIN:VCALENDAR
VERSION:2.0
PRODID:-//FeNaBA - ECPv4.9.10//NONSGML v1.0//EN
CALSCALE:GREGORIAN
METHOD:PUBLISH
X-WR-CALNAME:FeNaBA
X-ORIGINAL-URL:http://fenaba.org.ar/wp
X-WR-CALDESC:Eventos para FeNaBA
BEGIN:VTIMEZONE
TZID:UTC
BEGIN:STANDARD
TZOFFSETFROM:+0000
TZOFFSETTO:+0000
TZNAME:UTC
DTSTART:20170101T000000
END:STANDARD
END:VTIMEZONE
BEGIN:VEVENT
DTSTART;TZID=UTC:20171021T080000
DTEND;TZID=UTC:20171021T150000
DTSTAMP:20260425T220515
CREATED:20170815T173847Z
LAST-MODIFIED:20171010T175210Z
UID:1739-1508572800-1508598000@fenaba.org.ar
SUMMARY:Campeonato Metropolitano Verano 2018 - ETAPA SPRINT
DESCRIPTION:Reglamento Metropolitano Verano 2018 \nPrograma de Pruebas SPRINT \n 
URL:http://fenaba.org.ar/wp/?tribe_events=campeonato-metropolitano-verano-2018-etapa-sprint
LOCATION:Ce.N.A.R.D.\, Miguel B. de Sanchez 1050\, caba\, buenos aires\, Argentina
END:VEVENT
END:VCALENDAR