BEGIN:VCALENDAR
VERSION:2.0
PRODID:-//FeNaBA - ECPv4.9.10//NONSGML v1.0//EN
CALSCALE:GREGORIAN
METHOD:PUBLISH
X-WR-CALNAME:FeNaBA
X-ORIGINAL-URL:http://fenaba.org.ar/wp
X-WR-CALDESC:Eventos para FeNaBA
BEGIN:VTIMEZONE
TZID:UTC
BEGIN:STANDARD
TZOFFSETFROM:+0000
TZOFFSETTO:+0000
TZNAME:UTC
DTSTART:20170101T000000
END:STANDARD
END:VTIMEZONE
BEGIN:VEVENT
DTSTART;TZID=UTC:20170510T000000
DTEND;TZID=UTC:20170513T000000
DTSTAMP:20260425T231417
CREATED:20170322T192154Z
LAST-MODIFIED:20170322T192154Z
UID:1608-1494374400-1494633600@fenaba.org.ar
SUMMARY:Campeonato Nacional de Mayores - sede Santiago del Estero - Organiza CADDA
DESCRIPTION: 
URL:http://fenaba.org.ar/wp/?tribe_events=campeonato-nacional-de-mayores-sede-santiago-del-estero-organiza-cadda
END:VEVENT
END:VCALENDAR