BEGIN:VCALENDAR
VERSION:2.0
PRODID:-//FeNaBA - ECPv4.9.10//NONSGML v1.0//EN
CALSCALE:GREGORIAN
METHOD:PUBLISH
X-WR-CALNAME:FeNaBA
X-ORIGINAL-URL:http://fenaba.org.ar/wp
X-WR-CALDESC:Eventos para FeNaBA
BEGIN:VTIMEZONE
TZID:UTC
BEGIN:STANDARD
TZOFFSETFROM:+0000
TZOFFSETTO:+0000
TZNAME:UTC
DTSTART:20170101T000000
END:STANDARD
END:VTIMEZONE
BEGIN:VEVENT
DTSTART;TZID=UTC:20170111T000000
DTEND;TZID=UTC:20170114T000000
DTSTAMP:20260425T173345
CREATED:20161220T144628Z
LAST-MODIFIED:20161220T144628Z
UID:1385-1484092800-1484352000@fenaba.org.ar
SUMMARY:Campeonato Republica de Cadetes 2017
DESCRIPTION:convocatoria-campeonato-republica-cadetes \nprograma-de-pruebas-reublica-cadetes-1-y-2-2017 \nreglamento-campeonato-republica-de-cadetes \n 
URL:http://fenaba.org.ar/wp/?tribe_events=campeonato-republica-de-cadetes-2017
LOCATION:Ce.N.A.R.D.\, Miguel B. de Sanchez 1050\, caba\, buenos aires\, Argentina
END:VEVENT
END:VCALENDAR