BEGIN:VCALENDAR
VERSION:2.0
PRODID:-//FeNaBA - ECPv4.9.10//NONSGML v1.0//EN
CALSCALE:GREGORIAN
METHOD:PUBLISH
X-WR-CALNAME:FeNaBA
X-ORIGINAL-URL:http://fenaba.org.ar/wp
X-WR-CALDESC:Eventos para FeNaBA
BEGIN:VTIMEZONE
TZID:UTC
BEGIN:STANDARD
TZOFFSETFROM:+0000
TZOFFSETTO:+0000
TZNAME:UTC
DTSTART:20150101T000000
END:STANDARD
END:VTIMEZONE
BEGIN:VEVENT
DTSTART;TZID=UTC:20150106T000000
DTEND;TZID=UTC:20150109T000000
DTSTAMP:20260424T202212
CREATED:20141125T204314Z
LAST-MODIFIED:20141201T203344Z
UID:813-1420502400-1420761600@fenaba.org.ar
SUMMARY:Campeonato Republica de Natación Cadetes y Juveniles 
DESCRIPTION:Convocatoria  \nReglamento \nPrograma de Pruebas \nPropuesta gastronomica Republica CARP \nHoteleria \nPlanilla de Inscripción a Torneos \nPlanilla de Integracion de Delegación \nPlanilla de Ratificación FENABA \n 
URL:http://fenaba.org.ar/wp/?tribe_events=campeonato-republica-de-natacion-cadetes-y-juveniles
LOCATION:C.A.R.P.\, Av. F. Alcorta 7591\, C.A.B.A.\, Buenos Aires\, 1424\, Argentina
END:VEVENT
END:VCALENDAR