BEGIN:VCALENDAR
VERSION:2.0
PRODID:-//FeNaBA - ECPv4.9.10//NONSGML v1.0//EN
CALSCALE:GREGORIAN
METHOD:PUBLISH
X-WR-CALNAME:FeNaBA
X-ORIGINAL-URL:http://fenaba.org.ar/wp
X-WR-CALDESC:Eventos para FeNaBA
BEGIN:VTIMEZONE
TZID:UTC
BEGIN:STANDARD
TZOFFSETFROM:+0000
TZOFFSETTO:+0000
TZNAME:UTC
DTSTART:20150101T000000
END:STANDARD
END:VTIMEZONE
BEGIN:VEVENT
DTSTART;TZID=UTC:20150611T000000
DTEND;TZID=UTC:20150614T000000
DTSTAMP:20260425T035813
CREATED:20150514T204753Z
LAST-MODIFIED:20150514T204945Z
UID:980-1433980800-1434240000@fenaba.org.ar
SUMMARY:Campeonato Republica de Natación Cadetes y Juveniles - Edición 2015
DESCRIPTION:Convocatoria Campeonato Nacional de invierno Cadetes y Juveniles 2015 \nReglamento Campeonato Nacional de invierno Cadetes y Juveniles 2015 \nHotelería sugerica Campeonato Nacional Cadetes y Juveniles 2015 \nPLANILLA DE INTEGRACION E INSCRIPCION \nPLANILLA DE INTEGRACION DE RELEVOS \nPLANILLA DE RATIFICACIONES \n 
URL:http://fenaba.org.ar/wp/?tribe_events=campeonato-republica-de-natacion-cadetes-y-juveniles-edicion-2015
LOCATION:EMDER\, AV. JUAN B.JUSTO 3750\, Mar del Plata\, Buenos Aires\, Argentina
END:VEVENT
END:VCALENDAR