BEGIN:VCALENDAR
VERSION:2.0
PRODID:-//FeNaBA - ECPv4.9.10//NONSGML v1.0//EN
CALSCALE:GREGORIAN
METHOD:PUBLISH
X-WR-CALNAME:FeNaBA
X-ORIGINAL-URL:http://fenaba.org.ar/wp
X-WR-CALDESC:Eventos para FeNaBA
BEGIN:VTIMEZONE
TZID:UTC
BEGIN:STANDARD
TZOFFSETFROM:+0000
TZOFFSETTO:+0000
TZNAME:UTC
DTSTART:20140101T000000
END:STANDARD
END:VTIMEZONE
BEGIN:VEVENT
DTSTART;TZID=UTC:20140906T140000
DTEND;TZID=UTC:20140907T090000
DTSTAMP:20260425T034827
CREATED:20140624T191349Z
LAST-MODIFIED:20140721T153535Z
UID:565-1410012000-1410080400@fenaba.org.ar
SUMMARY:Copa 94° Aniversario - Azul
DESCRIPTION:Invitación \nReglamento Federados \nReglamento Promocionales \nPrograma de Pruebas \n 
URL:http://fenaba.org.ar/wp/?tribe_events=copa-94-aniversario-azul
END:VEVENT
END:VCALENDAR