BEGIN:VCALENDAR
VERSION:2.0
PRODID:-//FeNaBA - ECPv4.9.10//NONSGML v1.0//EN
CALSCALE:GREGORIAN
METHOD:PUBLISH
X-WR-CALNAME:FeNaBA
X-ORIGINAL-URL:http://fenaba.org.ar/wp
X-WR-CALDESC:Eventos para FeNaBA
BEGIN:VTIMEZONE
TZID:UTC
BEGIN:STANDARD
TZOFFSETFROM:+0000
TZOFFSETTO:+0000
TZNAME:UTC
DTSTART:20170101T000000
END:STANDARD
END:VTIMEZONE
BEGIN:VEVENT
DTSTART;TZID=UTC:20170812T150000
DTEND;TZID=UTC:20170812T150000
DTSTAMP:20260425T230743
CREATED:20170715T210138Z
LAST-MODIFIED:20170715T210138Z
UID:1710-1502550000-1502550000@fenaba.org.ar
SUMMARY:Copa Nestor Pellegrini - II Edición - 2017
DESCRIPTION:Reglamento COPA PELLEGRINI Etapa II (2) \n 
URL:http://fenaba.org.ar/wp/?tribe_events=copa-nestor-pellegrini-ii-edicion-2017
LOCATION:C.A.V.S.\, Av. Juan B. Justo 8900\, C.A.B.A.\, Argentina
END:VEVENT
END:VCALENDAR