BEGIN:VCALENDAR
VERSION:2.0
PRODID:-//FeNaBA - ECPv4.9.10//NONSGML v1.0//EN
CALSCALE:GREGORIAN
METHOD:PUBLISH
X-WR-CALNAME:FeNaBA
X-ORIGINAL-URL:http://fenaba.org.ar/wp
X-WR-CALDESC:Eventos para FeNaBA
BEGIN:VTIMEZONE
TZID:UTC
BEGIN:STANDARD
TZOFFSETFROM:+0000
TZOFFSETTO:+0000
TZNAME:UTC
DTSTART:20140101T000000
END:STANDARD
END:VTIMEZONE
BEGIN:VEVENT
DTSTART;TZID=UTC:20141025T000000
DTEND;TZID=UTC:20141025T000000
DTSTAMP:20260424T231454
CREATED:20140930T191615Z
LAST-MODIFIED:20141002T142938Z
UID:731-1414195200-1414195200@fenaba.org.ar
SUMMARY:Copa S.U.T.E.R.H. - Edición 2014
DESCRIPTION:Reglamento y Programa de Pruebas \n  \n 
URL:http://fenaba.org.ar/wp/?tribe_events=copa-s-u-t-e-r-h-edicion-2014
LOCATION:SUTERH\, VENEZUELA 330\, CABA\, BUENOS AIRES\, Argentina
END:VEVENT
END:VCALENDAR