BEGIN:VCALENDAR
VERSION:2.0
PRODID:-//FeNaBA - ECPv4.9.10//NONSGML v1.0//EN
CALSCALE:GREGORIAN
METHOD:PUBLISH
X-WR-CALNAME:FeNaBA
X-ORIGINAL-URL:http://fenaba.org.ar/wp
X-WR-CALDESC:Eventos para FeNaBA
BEGIN:VTIMEZONE
TZID:UTC
BEGIN:STANDARD
TZOFFSETFROM:+0000
TZOFFSETTO:+0000
TZNAME:UTC
DTSTART:20170101T000000
END:STANDARD
END:VTIMEZONE
BEGIN:VEVENT
DTSTART;TZID=UTC:20170915T000000
DTEND;TZID=UTC:20170916T000000
DTSTAMP:20260425T231640
CREATED:20170815T174957Z
LAST-MODIFIED:20170901T151748Z
UID:1749-1505433600-1505520000@fenaba.org.ar
SUMMARY:SELECTIVO MOCOCA - BRASIL
DESCRIPTION:Nota informativa Viaje a Mococa \nOPEN SELECTIVO MOCOCA 2017 \n 
URL:http://fenaba.org.ar/wp/?tribe_events=selectivo-mococa-brasil
LOCATION:Ce.N.A.R.D.\, Miguel B. de Sanchez 1050\, caba\, buenos aires\, Argentina
END:VEVENT
END:VCALENDAR