BEGIN:VCALENDAR
VERSION:2.0
PRODID:-//FeNaBA - ECPv4.9.10//NONSGML v1.0//EN
CALSCALE:GREGORIAN
METHOD:PUBLISH
X-WR-CALNAME:FeNaBA
X-ORIGINAL-URL:http://fenaba.org.ar/wp
X-WR-CALDESC:Eventos para FeNaBA
BEGIN:VTIMEZONE
TZID:UTC
BEGIN:STANDARD
TZOFFSETFROM:+0000
TZOFFSETTO:+0000
TZNAME:UTC
DTSTART:20140101T000000
END:STANDARD
END:VTIMEZONE
BEGIN:VEVENT
DTSTART;VALUE=DATE:20140926
DTEND;VALUE=DATE:20140929
DTSTAMP:20260425T034211
CREATED:20140218T155438Z
LAST-MODIFIED:20140219T141500Z
UID:408-1411689600-1411948799@fenaba.org.ar
SUMMARY:TORNEO INTERPROVINCIAL DE PROMOCIONALES
DESCRIPTION: 
URL:http://fenaba.org.ar/wp/?tribe_events=torneo-interprovincial-de-promocionales
LOCATION:C.A.R.D\, reserva natural Chateau Carreras\, sobre la Av. Cárcano\, CORDOBA\, CORDOBA\, Argentina
ATTACH;FMTTYPE=image/jpeg:http://fenaba.org.ar/wp/wp-content/uploads/2014/02/card.jpg
END:VEVENT
END:VCALENDAR