BEGIN:VCALENDAR
VERSION:2.0
PRODID:-//FeNaBA - ECPv4.9.10//NONSGML v1.0//EN
CALSCALE:GREGORIAN
METHOD:PUBLISH
X-WR-CALNAME:FeNaBA
X-ORIGINAL-URL:http://fenaba.org.ar/wp
X-WR-CALDESC:Eventos para FeNaBA
BEGIN:VTIMEZONE
TZID:UTC
BEGIN:STANDARD
TZOFFSETFROM:+0000
TZOFFSETTO:+0000
TZNAME:UTC
DTSTART:20150101T000000
END:STANDARD
END:VTIMEZONE
BEGIN:VEVENT
DTSTART;TZID=UTC:20150502T000000
DTEND;TZID=UTC:20150502T000000
DTSTAMP:20260425T035240
CREATED:20150327T213134Z
LAST-MODIFIED:20150327T213134Z
UID:936-1430524800-1430524800@fenaba.org.ar
SUMMARY:TORNEO PROYECCION 2020 - EDICIÓN 2015
DESCRIPTION:Reglamento Torneo Proyección 2020 \nPrograma de Pruebas \n 
URL:http://fenaba.org.ar/wp/?tribe_events=torneo-proyeccion-2020-edicion-2015
LOCATION:Ce.N.A.R.D.\, Miguel B. de Sanchez 1050\, caba\, buenos aires\, Argentina
END:VEVENT
END:VCALENDAR